BEGIN:VCALENDAR
VERSION:2.0
PRODID:-//www.chandleredfoundation.org//NONSGML kigkonsult.se iCalcreator 2
 .30.10//
CALSCALE:GREGORIAN
METHOD:PUBLISH
UID:6c86cf49-c4d5-46c4-991e-b23575db6b81
X-WR-CALDESC:The Chandler Education Foundation office will be closed in obs
 ervance of Independence Day.
X-WR-RELCALID:8ee0e15d27bab8e7f93dc1e6aa7fe460
X-WR-TIMEZONE:America/Denver
BEGIN:VTIMEZONE
TZID:America/Denver
BEGIN:STANDARD
TZNAME:MST
DTSTART:20271107T020000
TZOFFSETFROM:-0600
TZOFFSETTO:-0700
RDATE:20281105T020000
RDATE:20291104T020000
END:STANDARD
BEGIN:DAYLIGHT
TZNAME:MDT
DTSTART:20280312T020000
TZOFFSETFROM:-0700
TZOFFSETTO:-0600
RDATE:20290311T020000
END:DAYLIGHT
END:VTIMEZONE
BEGIN:VEVENT
UID:14e17d1c-e7a3-4bb5-b948-bf3f90cecfcd
DTSTAMP:20260426T014900Z
DESCRIPTION:The Chandler Education Foundation office will be closed in obse
 rvance of Independence Day.
DTSTART;TZID=America/Denver:20280704T040000
DTEND;TZID=America/Denver:20280704T040001
LOCATION:
SUMMARY:Office Closed for Independence Day
END:VEVENT
END:VCALENDAR
