BEGIN:VCALENDAR
VERSION:2.0
PRODID:-//www.chandleredfoundation.org//NONSGML kigkonsult.se iCalcreator 2
 .30.10//
CALSCALE:GREGORIAN
METHOD:PUBLISH
UID:6f3a61e6-c820-44d2-9f5a-0b63300f77eb
X-WR-CALDESC:The Chandler Education Foundation office will be closed in obs
 ervance of Independence Day.
X-WR-RELCALID:5929f58f51bf17beea340f96b4eb3339
X-WR-TIMEZONE:America/Denver
BEGIN:VTIMEZONE
TZID:America/Denver
BEGIN:STANDARD
TZNAME:MST
DTSTART:20261101T020000
TZOFFSETFROM:-0600
TZOFFSETTO:-0700
RDATE:20271107T020000
RDATE:20281105T020000
END:STANDARD
BEGIN:DAYLIGHT
TZNAME:MDT
DTSTART:20270314T020000
TZOFFSETFROM:-0700
TZOFFSETTO:-0600
RDATE:20280312T020000
END:DAYLIGHT
END:VTIMEZONE
BEGIN:VEVENT
UID:8d918aa8-cc73-4e4c-8de4-e7231456c186
DTSTAMP:20260425T102246Z
DESCRIPTION:The Chandler Education Foundation office will be closed in obse
 rvance of Independence Day.
DTSTART;TZID=America/Denver:20270704T040000
DTEND;TZID=America/Denver:20270704T040001
LOCATION:
SUMMARY:Office Closed for Independence Day
END:VEVENT
END:VCALENDAR
