BEGIN:VCALENDAR
VERSION:2.0
PRODID:-//www.chandleredfoundation.org//NONSGML kigkonsult.se iCalcreator 2
 .30.10//
CALSCALE:GREGORIAN
METHOD:PUBLISH
UID:ed16e4ed-ab32-4666-8a53-3becd55d4570
X-WR-CALDESC:
X-WR-RELCALID:e1d9f919c7cc0e3d9535af781991bebe
X-WR-TIMEZONE:America/Denver
BEGIN:VTIMEZONE
TZID:America/Denver
BEGIN:STANDARD
TZNAME:MST
DTSTART:20251102T020000
TZOFFSETFROM:-0600
TZOFFSETTO:-0700
RDATE:20261101T020000
RDATE:20271107T020000
END:STANDARD
BEGIN:DAYLIGHT
TZNAME:MDT
DTSTART:20260308T020000
TZOFFSETFROM:-0700
TZOFFSETTO:-0600
RDATE:20270314T020000
END:DAYLIGHT
END:VTIMEZONE
BEGIN:VEVENT
UID:f9c96969-d138-4cd3-a160-d39f0b2c8aeb
DTSTAMP:20260424T195525Z
DESCRIPTION:
DTSTART;TZID=America/Denver:20260828T060000
DTEND;TZID=America/Denver:20260828T143000
LOCATION:Whirlwind Golf Club at Wild Horse Pass\, 5692 W North Loop Rd\, Ch
 andler\, AZ 85226 US
SUMMARY:25th Golf Tournament & Fundraiser
END:VEVENT
END:VCALENDAR
