BEGIN:VCALENDAR
VERSION:2.0
PRODID:-//www.chandleredfoundation.org//NONSGML kigkonsult.se iCalcreator 2
 .30.10//
CALSCALE:GREGORIAN
METHOD:PUBLISH
UID:8b3e1e11-36cd-44fc-88eb-84ce6dd71ce8
X-WR-CALDESC:The Chandler Education Foundation office will be closed in obs
 ervance of Independence Day.
X-WR-RELCALID:66b8e648cde72481289ee842492401fd
X-WR-TIMEZONE:America/Denver
BEGIN:VTIMEZONE
TZID:America/Denver
BEGIN:STANDARD
TZNAME:MST
DTSTART:20251102T020000
TZOFFSETFROM:-0600
TZOFFSETTO:-0700
RDATE:20261101T020000
RDATE:20271107T020000
END:STANDARD
BEGIN:DAYLIGHT
TZNAME:MDT
DTSTART:20260308T020000
TZOFFSETFROM:-0700
TZOFFSETTO:-0600
RDATE:20270314T020000
END:DAYLIGHT
END:VTIMEZONE
BEGIN:VEVENT
UID:b43a8b96-149d-4d08-98b2-079c5864ad7a
DTSTAMP:20260424T184020Z
DESCRIPTION:The Chandler Education Foundation office will be closed in obse
 rvance of Independence Day.
DTSTART;TZID=America/Denver:20260704T040000
DTEND;TZID=America/Denver:20260704T040001
LOCATION:
SUMMARY:Office Closed for Independence Day
END:VEVENT
END:VCALENDAR
