BEGIN:VCALENDAR
VERSION:2.0
PRODID:-//www.chandleredfoundation.org//NONSGML kigkonsult.se iCalcreator 2
 .30.10//
CALSCALE:GREGORIAN
METHOD:PUBLISH
UID:5c68c99a-987a-406b-8018-f39d5a089bba
X-WR-CALDESC:Join us in celebrating the incredible achievements of Hamilton
  High School's Chandler Education Foundation scholarship recipients.\n\nTh
 e event will include brief remarks from school and foundation leadership\,
  followed by the presentation of the scholarship awards. Guests include sc
 holarship recipients and up to two family members\, scholarship donors\, C
 EF board members\, and Hamilton High School staff.\n\nLight breakfast prov
 ided. \n\nSpecial thanks to our generous sponsors!
X-WR-RELCALID:d1d0b18bf7f8bf2980a87191d44b0c24
X-WR-TIMEZONE:America/Denver
BEGIN:VTIMEZONE
TZID:America/Denver
BEGIN:STANDARD
TZNAME:MST
DTSTART:20251102T020000
TZOFFSETFROM:-0600
TZOFFSETTO:-0700
RDATE:20261101T020000
END:STANDARD
BEGIN:DAYLIGHT
TZNAME:MDT
DTSTART:20260308T020000
TZOFFSETFROM:-0700
TZOFFSETTO:-0600
RDATE:20270314T020000
END:DAYLIGHT
END:VTIMEZONE
BEGIN:VEVENT
UID:f9575b2f-e8a9-4803-ac84-ffb408644fdf
DTSTAMP:20260424T155440Z
DESCRIPTION:Join us in celebrating the incredible achievements of Hamilton 
 High School's Chandler Education Foundation scholarship recipients.\n\nThe
  event will include brief remarks from school and foundation leadership\, 
 followed by the presentation of the scholarship awards. Guests include sch
 olarship recipients and up to two family members\, scholarship donors\, CE
 F board members\, and Hamilton High School staff.\n\nLight breakfast provi
 ded. \n\nSpecial thanks to our generous sponsors!
DTSTART;TZID=America/Denver:20260501T073000
DTEND;TZID=America/Denver:20260501T083000
LOCATION:Hamilton High School\, 3700 S Arizona Ave\, Cafeteria\, Chandler\,
  AZ 85248 US
SUMMARY:Hamilton High School Scholarship Celebration
END:VEVENT
END:VCALENDAR
